BEGIN:VCALENDAR
VERSION:2.0
PRODID:-//eventon.com NONSGML v1.0//EN
CALSCALE:GREGORIAN
METHOD:PUBLISH
BEGIN:VEVENT
UID:69e8ac741f39e
DTSTAMP:20260422T110940Z
DTSTART:20170515
DTEND:20170516
LOCATION:Utrecht Jaarbeurs Utrecht
SUMMARY:ICTVakdag
DESCRIPTION:Zien en gezien worden op de ICTVakdag\,  hét evenement voor de
  ICT-branche &#8211; In 2017 organiseert ICTWaarborg voor de negende maal d
 e ICTVakdag\,  waar u op een unieke manier vakgenoten\,  leveranciers en fa
 brikanten ontmoet. In 2017 organiseert ICTWaarborg wederom de ICTVakdag\,  
 de meest toonaangevende beurs op het gebied van ICT.[..]\nhttps://digitaili
 ng.nl/events/ictvakdag/
URL:https://digitailing.nl/events/ictvakdag/
END:VEVENT
END:VCALENDAR