BEGIN:VCALENDAR
VERSION:2.0
PRODID:-//eventon.com NONSGML v1.0//EN
CALSCALE:GREGORIAN
METHOD:PUBLISH
BEGIN:VEVENT
UID:69e7758559b0d
DTSTAMP:20260421T130301Z
DTSTART:20171012
DTEND:20171013
LOCATION:RAI Amsterdam
SUMMARY:TechDays
DESCRIPTION:De wereld verandert steeds sneller en klanten zijn mondiger en 
 veeleisender dan ooit. Er is een vierde revolutie op komst\,  waarin techno
 logie centraal zal staan; hierdoor neemt de urgentie om echt te veranderen 
 met de dag toe. Nieuwe\,  verfrissende manieren van samenwerken binnen ons 
 maatschappij bieden hierop deels een antwoord.[..]\nhttps://digitailing.nl/
 events/techdays-2017/
URL:https://digitailing.nl/events/techdays-2017/
END:VEVENT
END:VCALENDAR